BEGIN:VCALENDAR
VERSION:2.0
PRODID:-//wp-events-plugin.com//7.2.2.1//EN
BEGIN:VEVENT
UID:0-146@sup.es
DTSTART;TZID=Europe/Madrid:20261231T000000
DTEND;TZID=Europe/Madrid:20261231T000000
DTSTAMP:20260422T084525Z
URL:https://sup.es/events/informe-anual-de-retribuciones-2026/
SUMMARY:Informe anual de retribuciones 2026.
DESCRIPTION:Para ver toda la información sobre las retribuciones para 2026
  haz clic aquí
ATTACH;FMTTYPE=image/jpeg:https://sup.es/wp-content/uploads/2022/07/euros5
 _8-f61.jpg
END:VEVENT
BEGIN:VTIMEZONE
TZID:Europe/Madrid
X-LIC-LOCATION:Europe/Madrid
BEGIN:STANDARD
DTSTART:20261025T020000
TZOFFSETFROM:+0200
TZOFFSETTO:+0100
TZNAME:CET
END:STANDARD
END:VTIMEZONE
END:VCALENDAR