BEGIN:VCALENDAR
VERSION:2.0
PRODID:-//wp-events-plugin.com//7.2.2.1//EN
BEGIN:VEVENT
UID:0-53@sup.es
DTSTART;TZID=Europe/Madrid:20241213T000000
DTEND;TZID=Europe/Madrid:20241216T000000
DTSTAMP:20241213T143100Z
URL:https://sup.es/events/orden-general-no-2750/
SUMMARY:Orden General Nº 2750
DESCRIPTION:Publicada la Orden General Nº 2750 de 13 de diciembre de 2024.
  Consúltala en la zona privada de la web.\n\nRESOLUCIÓN de 12 de diciemb
 re de 2024\, de la Dirección General de la Policía\, por la que se anunc
 ia la convocatoria pública número 94/2024\, para proveer puestos de trab
 ajo en distintas plantillas por personal funcionario ascendido a la catego
 ría de Comisaria o Comisario.\n\nRESOLUCIÓN del 9 de diciembre de 2024\,
  de la Dirección General de la Policía\, por la que se declaran aptos y 
 aptas para el ascenso a la categoría de Comisario o Comisaria de la Polic
 ía Nacional\, al personal de la Escala Ejecutiva primera categoría que s
 e expresa.\n\nRESOLUCIÓN de 9 de diciembre de 2024\, de la Dirección Gen
 eral de la Policía\, por la que se nombra personal de la Escala Superior\
 , segunda categoría de la Policía Nacional\, al personal de Escala Ejecu
 tiva\, primera categoría\, que ha superado el proceso selectivo reglament
 ariamente establecido.
ATTACH;FMTTYPE=image/jpeg:https://sup.es/wp-content/uploads/2024/04/orden_
 general2.jpg
END:VEVENT
BEGIN:VTIMEZONE
TZID:Europe/Madrid
X-LIC-LOCATION:Europe/Madrid
BEGIN:STANDARD
DTSTART:20241027T020000
TZOFFSETFROM:+0200
TZOFFSETTO:+0100
TZNAME:CET
END:STANDARD
END:VTIMEZONE
END:VCALENDAR