BEGIN:VCALENDAR
VERSION:2.0
PRODID:-//wp-events-plugin.com//7.2.2.1//EN
BEGIN:VEVENT
UID:0-54@sup.es
DTSTART;TZID=Europe/Madrid:20241216T000000
DTEND;TZID=Europe/Madrid:20241223T000000
DTSTAMP:20241216T144523Z
URL:https://sup.es/events/orden-general-no-2751/
SUMMARY:Orden General Nº 2751
DESCRIPTION:Publicada la Orden General Nº 2751 de 16 de diciembre de 2024.
  Consúltala en la zona de afiliados.\n\nRESOLUCIÓN por la que se regulan
  los distintivos de función y permanencia del personal de la Policía Nac
 ional en el Área de actividad de Información.\nCONVOCATORIA pública par
 a proveer varios puestos de trabajo por el sistema de libre designación.\
 nCONVOCATORIA por la que se convoca provisión de puestos de trabajo por e
 l sistema de libre designación.\nCONVOCATORIA por la que se convoca concu
 rso específico para la provisión de puestos de trabajo.\nRESOLUCIÓN con
 vocatoria de libre designación\, efectuada por Resolución de 5 de septie
 mbre de 2024.\nRESOLUCIÓN convocatoria 64/2024. Libre designación. Jefe 
 de la Oficina de Comunicación de la Dirección General de la Policía.\nR
 ESOLUCIÓN convocatoria 82/2024. Libre designación.J efe Central de Opera
 ciones de la Comisaría General de Seguridad Ciudadana.\nRESOLUCIÓN CEM 6
 2/2024. Gestión por Inspectoras e Inspectores.\nANUNCIO de la División d
 e Personal de la Dirección General de la Policía\, relativo al procedimi
 ento ordinario 671/2024.
ATTACH;FMTTYPE=image/jpeg:https://sup.es/wp-content/uploads/2024/04/orden_
 general2.jpg
END:VEVENT
BEGIN:VTIMEZONE
TZID:Europe/Madrid
X-LIC-LOCATION:Europe/Madrid
BEGIN:STANDARD
DTSTART:20241027T020000
TZOFFSETFROM:+0200
TZOFFSETTO:+0100
TZNAME:CET
END:STANDARD
END:VTIMEZONE
END:VCALENDAR