BEGIN:VCALENDAR
VERSION:2.0
PRODID:-//wp-events-plugin.com//7.2.2.1//EN
BEGIN:VEVENT
UID:0-55@sup.es
DTSTART;TZID=Europe/Madrid:20241219T000000
DTEND;TZID=Europe/Madrid:20241223T000000
DTSTAMP:20241219T191238Z
URL:https://sup.es/events/orden-general-no-2752/
SUMMARY:Orden General Nº 2752
DESCRIPTION:Publicada la Orden General Nº 2752 de 19 de diciembre de 2024.
  Consúltala en la zona de afiliados.\n\nRESOLUCIÓN de 19 de diciembre de
  2024\, de la Dirección General de la Policía\, por la que se resuelve l
 a convocatoria pública número 94/2024 para proveer puestos de trabajo en
  distintas plantillas por personal funcionario ascendido a la categoría d
 e Comisario o Comisaria.
ATTACH;FMTTYPE=image/jpeg:https://sup.es/wp-content/uploads/2024/04/orden_
 general2.jpg
END:VEVENT
BEGIN:VTIMEZONE
TZID:Europe/Madrid
X-LIC-LOCATION:Europe/Madrid
BEGIN:STANDARD
DTSTART:20241027T020000
TZOFFSETFROM:+0200
TZOFFSETTO:+0100
TZNAME:CET
END:STANDARD
END:VTIMEZONE
END:VCALENDAR