BEGIN:VCALENDAR
VERSION:2.0
PRODID:-//wp-events-plugin.com//7.2.2.1//EN
BEGIN:VEVENT
UID:0-56@sup.es
DTSTART;TZID=Europe/Madrid:20241226T000000
DTEND;TZID=Europe/Madrid:20241230T000000
DTSTAMP:20241226T181259Z
URL:https://sup.es/events/orden-general-no-2753/
SUMMARY:Orden General Nº 2753
DESCRIPTION:Publicada la Orden General Nº 2753 de 23 de diciembre de 2024.
  Puedes consultarla en la zona de afiliados.\n\nTEXTO ENMENDADO aprobado e
 n París el 15 de noviembre de 2024 del Anexo I\, Listas de sustancias y m
 étodos prohibidos\, de la Convención Internacional contra el dopaje en e
 l deporte\, hecha en París el 18 de noviembre de 2005.\n\nORDEN PJC/1430/
 2024\, de 16 de diciembre\, por la que se publica el Acuerdo del Consejo d
 e Seguridad Nacional de 15 de octubre de 2024\, por el que se aprueba la E
 strategia Nacional de Protección Civil.\n\nRESOLUCIÓN de 12 de diciembre
  de 2024\, de la Subsecretaría\, por la que se convoca la provisión de p
 uesto de trabajo por el sistema de libre designación.\n\nRESOLUCIÓN de 1
 9 de diciembre de 2024\, de la Dirección General de la Policía\, por la 
 que se anuncia la convocatoria pública número 98/2024\, para la provisi
 ón de distintos puestos de trabajo en el Área de Información\, a cubrir
  por el procedimiento de libre designación.\n\nRESOLUCIÓN de 19 de dicie
 mbre 2024\, de la Dirección General de la Policía\, por la que se anunci
 a la convocatoria número 99/2024\, para la provisión de los puestos de t
 rabajo de Director/a C.I.E. y Jefe/a de Seguridad C.I.E. en distintas plan
 tillas\, a cubrir por el procedimiento de libre designación.\n\nRESOLUCI
 ÓN de 12 de diciembre 2024\, de la Dirección General de la Policía\, po
 r la que se convoca concurso general de méritos número 95/2024\, para la
  provisión de puestos de trabajo en distintas plantillas\, por personal f
 uncionario de la Policía\n\nRESOLUCIÓN de 12 de diciembre de 2024\, de l
 a Dirección General de la Policía\, por la que se resuelve definitivamen
 te el concurso específico de méritos número 32/2024\, para la provisió
 n de puestos de trabajo de Especialista en Armamento y Tiro\, en distintas
  plantillas.\n\nRESOLUCIÓN de 17 de diciembre de 2024\, de la Dirección 
 General de la Policía\, por la que se resuelve el concurso específico de
  méritos número 69/2024\, para la provisión de puestos de trabajo en el
  Área de Coordinación de Prevención de Riesgos Laborales de la Subdirec
 ción General de Recursos Humanos y Formación.\n\nRESOLUCIÓN de 17 de di
 ciembre de 2024\, de la Dirección General de la Policía\, por la que se 
 convoca proceso selectivo de ascenso a la categoría de Comisaria Principa
 l o Comisario Principal de la Policía Nacional.\n\nRESOLUCIÓN de 17 de d
 iciembre de 2024\, de la Dirección General de la Policía\, por la que se
  convoca proceso selectivo de ascenso a la categoría de Comisaria o Comis
 ario de la Policía Nacional.\n\nANUNCIO de la División de Personal de la
  Dirección General de la Policía\, relativo al procedimiento ordinario n
 úmero 2.099/24\n\nANUNCIOS.- ANUNCIO de la División de Personal de la Di
 rección General de la Policía\, relativo al procedimiento abreviado núm
 ero 135/2024\n\nANUNCIOS.- ANUNCIO de la División de Personal de la Direc
 ción General de la Policía\, relativo al procedimiento abreviado número
  138/2024
ATTACH;FMTTYPE=image/jpeg:https://sup.es/wp-content/uploads/2024/04/orden_
 general2.jpg
END:VEVENT
BEGIN:VTIMEZONE
TZID:Europe/Madrid
X-LIC-LOCATION:Europe/Madrid
BEGIN:STANDARD
DTSTART:20241027T020000
TZOFFSETFROM:+0200
TZOFFSETTO:+0100
TZNAME:CET
END:STANDARD
END:VTIMEZONE
END:VCALENDAR