BEGIN:VCALENDAR
VERSION:2.0
PRODID:-//wp-events-plugin.com//7.2.2.1//EN
BEGIN:VEVENT
UID:0-10@sup.es
DTSTART;VALUE=DATE:20240429
DTEND;VALUE=DATE:20240430
DTSTAMP:20240416T091132Z
URL:https://sup.es/events/proceso-selectivo-de-ascenso-a-comisario-a-convo
 catoria-14-12-2023-lista-definitiva-de-personal-funcionario-admitidos-y-ex
 cluido-del-proceso-y-convocatoria-a-pruebas/
SUMMARY:Proceso selectivo de ascenso a Comisario/a. Convocatoria 14.12.2023
 . Lista definitiva de personal funcionario admitidos y excluido del proces
 o y convocatoria a pruebas.
DESCRIPTION:Lista definitiva de personal funcionario admitidos y excluido d
 el proceso y convocatoria a pruebas.
ATTACH;FMTTYPE=image/jpeg:https://sup.es/wp-content/uploads/2023/04/escala
 _superior_comisario_nueva_divisa_16-2f2.jpg
END:VEVENT
END:VCALENDAR