BEGIN:VCALENDAR
VERSION:2.0
PRODID:-//wp-events-plugin.com//7.2.2.1//EN
BEGIN:VEVENT
UID:0-40@sup.es
DTSTART;TZID=Europe/Madrid:20251231T000000
DTEND;TZID=Europe/Madrid:20251231T000000
DTSTAMP:20241018T091914Z
URL:https://sup.es/events/relacion-de-fiestas-laborales-para-el-ano-2025/
SUMMARY:Relación de fiestas laborales para el año 2025
DESCRIPTION:Vista la relación de fiestas laborales para el año 2025 remit
 ida al Ministerio de Trabajo y Economía Social por las diecisiete comunid
 ades autónomas y por las ciudades de Ceuta y Melilla\,\nY teniendo en con
 sideración los siguientes\n\nAntecedentes de hecho\n\nPrimero.\nDe confor
 midad con lo establecido en el artículo 45.4 del Real Decreto 2001/1983\,
  de 28 de julio\, según redacción dada al mismo por el Real Decreto 1346
 /1989\, de 3 de noviembre\, las diecisiete Comunidades Autónomas y las Ci
 udades de Ceuta y Melilla han remitido al Ministerio de Trabajo y Economí
 a Social la relación de fiestas laborales para el año 2025.\n\nRelación
  de fiestas laborales para el año 2025
ATTACH;FMTTYPE=image/jpeg:https://sup.es/wp-content/uploads/2022/12/logo_b
 oe.jpg
END:VEVENT
BEGIN:VTIMEZONE
TZID:Europe/Madrid
X-LIC-LOCATION:Europe/Madrid
BEGIN:STANDARD
DTSTART:20251026T020000
TZOFFSETFROM:+0200
TZOFFSETTO:+0100
TZNAME:CET
END:STANDARD
END:VTIMEZONE
END:VCALENDAR