BEGIN:VCALENDAR
VERSION:2.0
PRODID:-//wp-events-plugin.com//7.2.2.1//EN
BEGIN:VEVENT
UID:0-144@sup.es
DTSTART;TZID=Europe/Madrid:20261231T000000
DTEND;TZID=Europe/Madrid:20261231T000000
DTSTAMP:20260109T093318Z
URL:https://sup.es/events/resolucion-por-la-que-se-establece-a-efectos-de-
 computo-de-plazos-el-calendario-de-dias-inhabiles-en-la-age-para-2026/
SUMMARY:Resolución por la que se establece a efectos de cómputo de plazos
  el calendario de días inhábiles en la AGE para 2026.
DESCRIPTION:Para ver la resolución haz clic aquí
ATTACH;FMTTYPE=image/jpeg:https://sup.es/wp-content/uploads/2025/11/calend
 ario_2026_24112025.jpg
END:VEVENT
BEGIN:VTIMEZONE
TZID:Europe/Madrid
X-LIC-LOCATION:Europe/Madrid
BEGIN:STANDARD
DTSTART:20261025T020000
TZOFFSETFROM:+0200
TZOFFSETTO:+0100
TZNAME:CET
END:STANDARD
END:VTIMEZONE
END:VCALENDAR