BEGIN:VCALENDAR
VERSION:2.0
PRODID:-//wp-events-plugin.com//7.2.2.1//EN
BEGIN:VEVENT
UID:0-39@sup.es
DTSTART;TZID=Europe/Madrid;VALUE=DATE:20241029
DTEND;TZID=Europe/Madrid;VALUE=DATE:20241030
DTSTAMP:20241010T122416Z
URL:https://sup.es/events/vacante-europol-sne-275-2024-seconded-national-e
 xpert-in-the-forensic-support-team-digital-support-unit/
SUMMARY:Vacante Europol SNE 275/2024. Seconded National Expert in the Foren
 sic Support Team\, Digital Support Unit.
DESCRIPTION:This selection procedure is intended to establish a reserve lis
 t of successful candidates. It is envisaged to start using the reserve lis
 t in Q1/Q2 of 2025. Europol retains the right to make use of the reserve l
 ist to select candidates for similar secondments within the organisation\,
  should business needs require so…
ATTACH;FMTTYPE=image/jpeg:https://sup.es/wp-content/uploads/2022/09/europo
 l_8-4c0.jpg
END:VEVENT
BEGIN:VTIMEZONE
TZID:Europe/Madrid
X-LIC-LOCATION:Europe/Madrid
BEGIN:STANDARD
DTSTART:20241027T020000
TZOFFSETFROM:+0200
TZOFFSETTO:+0100
TZNAME:CET
END:STANDARD
END:VTIMEZONE
END:VCALENDAR